BEGIN:VCALENDAR
VERSION:2.0
PRODID:-//148.66.136.151//NONSGML kigkonsult.se iCalcreator 2.24.2//
CALSCALE:GREGORIAN
METHOD:PUBLISH
X-WR-CALNAME:Ballina Bicycle Club
X-WR-CALDESC:share the joy of cycling
X-FROM-URL:http://ballinabicycleclub.com.au
X-WR-TIMEZONE:Australia/Sydney
BEGIN:VTIMEZONE
TZID:Australia/Sydney
X-LIC-LOCATION:Australia/Sydney
BEGIN:STANDARD
DTSTART:20210404T030000
TZOFFSETFROM:+1100
TZOFFSETTO:+1000
RDATE:20220403T030000
TZNAME:AEST
END:STANDARD
BEGIN:DAYLIGHT
DTSTART:20201004T020000
TZOFFSETFROM:+1000
TZOFFSETTO:+1100
RDATE:20211003T020000
TZNAME:AEDT
END:DAYLIGHT
END:VTIMEZONE
BEGIN:VEVENT
UID:ai1ec-1445@ballinabicycleclub.com.au
DTSTAMP:20210227T082231Z
CATEGORIES:
CONTACT:Ballina Bicycle Club\; info@ballinabicycleclub.com.au
DESCRIPTION:<p>CLUB MEMBERS ONLY<br />\nAll club members have been contacte
 d via email. If you can’t find it – check your spam folder.<br />\nForms s
 ent include: Agenda\; Nominations\; Minutes.</p>
DTSTART;TZID=Australia/Sydney:20201031T150000
SEQUENCE:0
SUMMARY:BBC AGM
URL:http://ballinabicycleclub.com.au/event/bbc-agm/
X-COST-TYPE:free
X-INSTANT-EVENT:1
END:VEVENT
END:VCALENDAR
