BEGIN:VCALENDAR
VERSION:2.0
PRODID:-//148.66.136.151//NONSGML kigkonsult.se iCalcreator 2.24.2//
CALSCALE:GREGORIAN
METHOD:PUBLISH
X-WR-CALNAME:Ballina Bicycle Club
X-WR-CALDESC:share the joy of cycling
X-FROM-URL:http://ballinabicycleclub.com.au
X-WR-TIMEZONE:Australia/Sydney
BEGIN:VTIMEZONE
TZID:Australia/Sydney
X-LIC-LOCATION:Australia/Sydney
BEGIN:STANDARD
DTSTART:20210404T030000
TZOFFSETFROM:+1100
TZOFFSETTO:+1000
RDATE:20220403T030000
TZNAME:AEST
END:STANDARD
BEGIN:DAYLIGHT
DTSTART:20201004T020000
TZOFFSETFROM:+1000
TZOFFSETTO:+1100
RDATE:20211003T020000
TZNAME:AEDT
END:DAYLIGHT
END:VTIMEZONE
BEGIN:VEVENT
UID:ai1ec-1436@ballinabicycleclub.com.au
DTSTAMP:20210227T082313Z
CATEGORIES:
CONTACT:Chris Boogert\; 0422 768 617\; racedirector@byronbaycylceclub.org.a
 u\; https://www.byronbaycycleclub.org.au/
DESCRIPTION:Category 3 race event.\nFor details\, please visit BBCC Racing 
 Page\nRegistration 7.00am\nRace starts 7.30 am\nNo license\, no racing.
DTSTART;TZID=Australia/Sydney:20200726T070000
DTEND;TZID=Australia/Sydney:20200726T093000
LOCATION:TBA
SEQUENCE:0
SUMMARY:BBCC\, Criterium
URL:http://ballinabicycleclub.com.au/event/bbcc-racing/
X-COST-TYPE:free
X-ALT-DESC;FMTTYPE=text/html:<!DOCTYPE HTML PUBLIC '-//W3C//DTD HTML 3.2//E
 N'>\\n<HTML>\\n<HEAD>\\n<TITLE></TITLE>\\n</HEAD>\\n<BODY><p>Category 3 ra
 ce event.<br />\nFor details\, please visit <a href='https://www.byronbayc
 ycleclub.org.au/racing'>BBCC Racing Page</a><br />\nRegistration 7.00am<br
  />\nRace starts 7.30 am<br />\nNo license\, no racing.</p>\n</BODY></HTML
 >
X-COST:$15
END:VEVENT
END:VCALENDAR
