BEGIN:VCALENDAR
VERSION:2.0
PRODID:-//148.66.136.151//NONSGML kigkonsult.se iCalcreator 2.24.2//
CALSCALE:GREGORIAN
METHOD:PUBLISH
X-WR-CALNAME:Ballina Bicycle Club
X-WR-CALDESC:share the joy of cycling
X-FROM-URL:http://ballinabicycleclub.com.au
X-WR-TIMEZONE:Australia/Sydney
BEGIN:VTIMEZONE
TZID:Australia/Sydney
X-LIC-LOCATION:Australia/Sydney
BEGIN:STANDARD
DTSTART:20210404T030000
TZOFFSETFROM:+1100
TZOFFSETTO:+1000
RDATE:20220403T030000
TZNAME:AEST
END:STANDARD
BEGIN:DAYLIGHT
DTSTART:20201004T020000
TZOFFSETFROM:+1000
TZOFFSETTO:+1100
RDATE:20211003T020000
TZNAME:AEDT
END:DAYLIGHT
END:VTIMEZONE
BEGIN:VEVENT
UID:ai1ec-1433@ballinabicycleclub.com.au
DTSTAMP:20210227T082354Z
CATEGORIES:
CONTACT:
DESCRIPTION:<p>RACING TO RESTART IN 2021</p>
DTSTART;VALUE=DATE:20201011
DTEND;VALUE=DATE:20201012
GEO:-28.749848;+153.533163
LOCATION:Knockrow @ 419 Hinterland Way\, Knockrow NSW 2479\, Australia
SEQUENCE:0
SUMMARY:CANCELLED. Racing to restart in 2021
URL:http://ballinabicycleclub.com.au/event/bbc-racing-knockrow-3/
X-COST-TYPE:free
X-COST:$15
END:VEVENT
END:VCALENDAR
