BEGIN:VCALENDAR
VERSION:2.0
PRODID:-//148.66.136.151//NONSGML kigkonsult.se iCalcreator 2.24.2//
CALSCALE:GREGORIAN
METHOD:PUBLISH
X-WR-CALNAME:Ballina Bicycle Club
X-WR-CALDESC:share the joy of cycling
X-FROM-URL:http://ballinabicycleclub.com.au
X-WR-TIMEZONE:Australia/Sydney
BEGIN:VTIMEZONE
TZID:Australia/Sydney
X-LIC-LOCATION:Australia/Sydney
BEGIN:STANDARD
DTSTART:20210404T030000
TZOFFSETFROM:+1100
TZOFFSETTO:+1000
RDATE:20220403T030000
TZNAME:AEST
END:STANDARD
BEGIN:DAYLIGHT
DTSTART:20201004T020000
TZOFFSETFROM:+1000
TZOFFSETTO:+1100
RDATE:20211003T020000
TZNAME:AEDT
END:DAYLIGHT
END:VTIMEZONE
BEGIN:VEVENT
UID:ai1ec-1432@ballinabicycleclub.com.au
DTSTAMP:20210227T082440Z
CATEGORIES:
CONTACT:TBA
DESCRIPTION:STAY HOME IF UNWELL\nIMPORTANT: COVID Brief to Riders (click to
  open)\nCOVIDSafe App\nEVENT: Category 3 (Club & Club invitation only).\nR
 OAD RACE: TBA\nRegistration open at 7.00am\nRace Starts 7.30am\nBreakfast 
 and refreshments available at the Macadamia Castle.
DTSTART;TZID=Australia/Sydney:20200913T070000
DTEND;TZID=Australia/Sydney:20200913T093000
GEO:-28.749848;+153.533163
LOCATION:Knockrow @ 419 Hinterland Way\, Knockrow NSW 2479\, Australia
SEQUENCE:0
SUMMARY:BBC RACING\, Knockrow
URL:http://ballinabicycleclub.com.au/event/bbc-racing-knockrow-2/
X-COST-TYPE:free
X-ALT-DESC;FMTTYPE=text/html:<!DOCTYPE HTML PUBLIC '-//W3C//DTD HTML 3.2//E
 N'>\\n<HTML>\\n<HEAD>\\n<TITLE></TITLE>\\n</HEAD>\\n<BODY><p><strong>STAY 
 HOME IF UNWELL</strong><br />\nIMPORTANT: <a href='http://ballinabicyclecl
 ub.com.au/wp-content/uploads/2020/07/COVID-Brief-to-Rider.jpg'>COVID Brief
  to Riders</a> (click to open)<br />\n<a href='https://www.health.gov.au/r
 esources/apps-and-tools/covidsafe-app'>COVIDSafe App</a></p>\n<p>EVENT: Ca
 tegory 3 (Club & Club invitation only).<br />\nROAD RACE: TBA<br />\nRegis
 tration open at 7.00am<br />\nRace Starts 7.30am<br />\nBreakfast and refr
 eshments available at the Macadamia Castle.</p>\n</BODY></HTML>
X-COST:$15
END:VEVENT
END:VCALENDAR
